BEGIN:VCALENDAR
VERSION:2.0
PRODID: -//Q4 Inc.//EN
METHOD:PUBLISH
BEGIN:VTIMEZONE
TZID:America/New_York
X-LIC-LOCATION:America/New_York
BEGIN:DAYLIGHT
TZOFFSETFROM:-0500
TZOFFSETTO:-0400
TZNAME:EDT
DTSTART:19700308T020000
RRULE:FREQ=YEARLY;BYMONTH=3;BYDAY=2SU
END:DAYLIGHT
BEGIN:STANDARD
TZOFFSETFROM:-0400
TZOFFSETTO:-0500
TZNAME:EST
DTSTART:19701101T020000
RRULE:FREQ=YEARLY;BYMONTH=11;BYDAY=1SU
END:STANDARD
END:VTIMEZONE
BEGIN:VEVENT
ORGANIZER:MAILTO:ir@coupang.com
DTSTART;TZID="America/New_York":20260505T173000
DTEND;TZID="America/New_York":20260505T183000
LOCATION:
UID:06cd9166-a7a2-4442-b57f-2ddfa4626fc2
DTSTAMP:20260422T085829
SUMMARY:Coupang 2026 First Quarter Earnings
DESCRIPTION: View More Information: https://ir.aboutcoupang.com/news-events/events/event-details/2026/Coupang-2026-First-Quarter-Earnings/default.aspx
URL;VALUE=URI:https://ir.aboutcoupang.com/news-events/events/event-details/2026/Coupang-2026-First-Quarter-Earnings/default.aspx
PRIORITY:5
CLASS:PUBLIC
END:VEVENT
END:VCALENDAR
